BEGIN:VCALENDAR
VERSION:2.0
PRODID:-//NewstrAid Benevolent Fund - ECPv6.15.14//NONSGML v1.0//EN
CALSCALE:GREGORIAN
METHOD:PUBLISH
X-ORIGINAL-URL:https://www.newstraid.org.uk
X-WR-CALDESC:Events for NewstrAid Benevolent Fund
REFRESH-INTERVAL;VALUE=DURATION:PT1H
X-Robots-Tag:noindex
X-PUBLISHED-TTL:PT1H
BEGIN:VTIMEZONE
TZID:Europe/London
BEGIN:DAYLIGHT
TZOFFSETFROM:+0000
TZOFFSETTO:+0100
TZNAME:BST
DTSTART:20250330T010000
END:DAYLIGHT
BEGIN:STANDARD
TZOFFSETFROM:+0100
TZOFFSETTO:+0000
TZNAME:GMT
DTSTART:20251026T010000
END:STANDARD
BEGIN:DAYLIGHT
TZOFFSETFROM:+0000
TZOFFSETTO:+0100
TZNAME:BST
DTSTART:20260329T010000
END:DAYLIGHT
BEGIN:STANDARD
TZOFFSETFROM:+0100
TZOFFSETTO:+0000
TZNAME:GMT
DTSTART:20261025T010000
END:STANDARD
BEGIN:DAYLIGHT
TZOFFSETFROM:+0000
TZOFFSETTO:+0100
TZNAME:BST
DTSTART:20270328T010000
END:DAYLIGHT
BEGIN:STANDARD
TZOFFSETFROM:+0100
TZOFFSETTO:+0000
TZNAME:GMT
DTSTART:20271031T010000
END:STANDARD
END:VTIMEZONE
BEGIN:VEVENT
DTSTART;TZID=Europe/London:20260610T080000
DTEND;TZID=Europe/London:20260610T200000
DTSTAMP:20260422T182853
CREATED:20260223T090259Z
LAST-MODIFIED:20260223T090346Z
UID:5414-1781078400-1781121600@www.newstraid.org.uk
SUMMARY:Thames Valley Area Committee Golf Day
DESCRIPTION:[vc_row][vc_column][vc_column_text css=””]Join us for this year’s Thames Valley Area Committee Newstraid Golf Tournament to be held on Wednesday 10th June at Farleigh Golf Club nr Warlingham\, Surrey. \nBreakfast & registration will be from 08:00 then the day’s event will start from 08:30 with a 9 hole Texas Scramble competition to get everyone in the swing for the main event. As usual the Main event will be an 18 Hole Stableford Competition that will take place in the afternoon (1st tee 12.00pm) competing for the NewstrAid Trophies. This will also incorporate a fun team event. The day will culminate with an evening meal around 6.00pm\, followed by the raffle and presentation of prizes. \nThere will be trophies for winners of both sections (Trade associates & Guests) as well as prizes for the nearest pin\, nearest the pin in 2\, longest drive & the team ball event. \nThe cost of the day will be £85 per player which represents exceptional value for 27 holes of golf\, a bacon roll breakfast\, Golfers lunch and a two course evening meal. \nTo book contact Terry Skipsey: t.skipsey@hotmail.com \nTel: 07495 425 995[/vc_column_text][/vc_column][/vc_row]
URL:https://www.newstraid.org.uk/event/thames-valley-area-committee-golf-day-4/
LOCATION:Farleigh Golf Club nr Warlingham\, Surrey
ATTACH;FMTTYPE=image/jpeg:https://www.newstraid.org.uk/wp-content/uploads/2024/02/courtney-cook-SsIIw_MET0E-unsplash-scaled.jpg
END:VEVENT
END:VCALENDAR