BEGIN:VCALENDAR
VERSION:2.0
PRODID:-//NewstrAid Benevolent Fund - ECPv6.15.14//NONSGML v1.0//EN
CALSCALE:GREGORIAN
METHOD:PUBLISH
X-ORIGINAL-URL:https://www.newstraid.org.uk
X-WR-CALDESC:Events for NewstrAid Benevolent Fund
REFRESH-INTERVAL;VALUE=DURATION:PT1H
X-Robots-Tag:noindex
X-PUBLISHED-TTL:PT1H
BEGIN:VTIMEZONE
TZID:Europe/London
BEGIN:DAYLIGHT
TZOFFSETFROM:+0000
TZOFFSETTO:+0100
TZNAME:BST
DTSTART:20220327T010000
END:DAYLIGHT
BEGIN:STANDARD
TZOFFSETFROM:+0100
TZOFFSETTO:+0000
TZNAME:GMT
DTSTART:20221030T010000
END:STANDARD
BEGIN:DAYLIGHT
TZOFFSETFROM:+0000
TZOFFSETTO:+0100
TZNAME:BST
DTSTART:20230326T010000
END:DAYLIGHT
BEGIN:STANDARD
TZOFFSETFROM:+0100
TZOFFSETTO:+0000
TZNAME:GMT
DTSTART:20231029T010000
END:STANDARD
BEGIN:DAYLIGHT
TZOFFSETFROM:+0000
TZOFFSETTO:+0100
TZNAME:BST
DTSTART:20240331T010000
END:DAYLIGHT
BEGIN:STANDARD
TZOFFSETFROM:+0100
TZOFFSETTO:+0000
TZNAME:GMT
DTSTART:20241027T010000
END:STANDARD
END:VTIMEZONE
BEGIN:VEVENT
DTSTART;TZID=Europe/London:20231012T183000
DTEND;TZID=Europe/London:20231012T220000
DTSTAMP:20260425T204455
CREATED:20230927T111152Z
LAST-MODIFIED:20230927T111152Z
UID:4068-1697135400-1697148000@www.newstraid.org.uk
SUMMARY:East Midlands Pub Quiz 2023
DESCRIPTION:The East Midlands Area Committee will be hosting a quiz night on Thursday 12th October. \nTaking place at Thorney Golf Centre\, the evening will include a fish and chips supper and tickets cost £40 for a table of 4. \nFor further information or to book your place contact Darren Powell dp210866@gmail.com or Tom Rodger Tom@newstraid.org.uk \nEast Mids Pub Quiz 2023
URL:https://www.newstraid.org.uk/event/east-midlands-pub-quiz-2023/
LOCATION:Thorney Golf Centre\, Thorney\, Cambs\, PE6 0TJ
ATTACH;FMTTYPE=image/jpeg:https://www.newstraid.org.uk/wp-content/uploads/2023/09/EMids-Quiz-2023-social-media.jpg
END:VEVENT
END:VCALENDAR