BEGIN:VCALENDAR
VERSION:2.0
PRODID:-//NewstrAid Benevolent Fund - ECPv6.15.14//NONSGML v1.0//EN
CALSCALE:GREGORIAN
METHOD:PUBLISH
X-WR-CALNAME:NewstrAid Benevolent Fund
X-ORIGINAL-URL:https://www.newstraid.org.uk
X-WR-CALDESC:Events for NewstrAid Benevolent Fund
REFRESH-INTERVAL;VALUE=DURATION:PT1H
X-Robots-Tag:noindex
X-PUBLISHED-TTL:PT1H
BEGIN:VTIMEZONE
TZID:Europe/London
BEGIN:DAYLIGHT
TZOFFSETFROM:+0000
TZOFFSETTO:+0100
TZNAME:BST
DTSTART:20230326T010000
END:DAYLIGHT
BEGIN:STANDARD
TZOFFSETFROM:+0100
TZOFFSETTO:+0000
TZNAME:GMT
DTSTART:20231029T010000
END:STANDARD
BEGIN:DAYLIGHT
TZOFFSETFROM:+0000
TZOFFSETTO:+0100
TZNAME:BST
DTSTART:20240331T010000
END:DAYLIGHT
BEGIN:STANDARD
TZOFFSETFROM:+0100
TZOFFSETTO:+0000
TZNAME:GMT
DTSTART:20241027T010000
END:STANDARD
BEGIN:DAYLIGHT
TZOFFSETFROM:+0000
TZOFFSETTO:+0100
TZNAME:BST
DTSTART:20250330T010000
END:DAYLIGHT
BEGIN:STANDARD
TZOFFSETFROM:+0100
TZOFFSETTO:+0000
TZNAME:GMT
DTSTART:20251026T010000
END:STANDARD
END:VTIMEZONE
BEGIN:VEVENT
DTSTART;TZID=Europe/London:20241010T190000
DTEND;TZID=Europe/London:20241010T220000
DTSTAMP:20260422T170120
CREATED:20240807T101303Z
LAST-MODIFIED:20240807T101303Z
UID:4572-1728586800-1728597600@www.newstraid.org.uk
SUMMARY:East Midlands Quiz 2024
DESCRIPTION:The East Midlands Area Committee will be hosting a quiz night on Thursday 10th October. \nTaking place at Thorney Golf Centre\, the evening will include a fish and chips supper and tickets cost £50 for a table of 4 or £15 per head. \nFor further information or to book your place contact Darren Powell dp210866@gmail.com \nAll proceeds will go to support NewstrAid’s work. \nEast Mids Quiz 2024 (A4) (2)
URL:https://www.newstraid.org.uk/event/east-midlands-quiz-2024/
LOCATION:Thorney Golf Centre\, Thorney\, Cambs\, PE6 0TJ
ATTACH;FMTTYPE=image/jpeg:https://www.newstraid.org.uk/wp-content/uploads/2024/08/quiz-5595288_1920.jpg
END:VEVENT
BEGIN:VEVENT
DTSTART;VALUE=DATE:20241030
DTEND;VALUE=DATE:20241031
DTSTAMP:20260422T170120
CREATED:20241003T134400Z
LAST-MODIFIED:20241003T134400Z
UID:4639-1730246400-1730332799@www.newstraid.org.uk
SUMMARY:Woolly Wednesday 2024
DESCRIPTION:Our initiative to promote the help we can offer those struggling with energy bills this winter is back! \nIts easy to take part\, simply ‘like’\, ‘comment on’\, or ‘share’ our social media posts on Oct 30th and if you fancy wearing your woollies and doing your own post about the initiative on the day\, please do! \nFull details can be found in the flyer linked below. \nDownload the flyer for more info.
URL:https://www.newstraid.org.uk/event/woolly-wednesday-2024/
ATTACH;FMTTYPE=image/jpeg:https://www.newstraid.org.uk/wp-content/uploads/2024/07/Woolly-Wednesday-2024-1-insta-.jpg
END:VEVENT
END:VCALENDAR