BEGIN:VCALENDAR
VERSION:2.0
PRODID:-//NewstrAid Benevolent Fund - ECPv6.15.14//NONSGML v1.0//EN
CALSCALE:GREGORIAN
METHOD:PUBLISH
X-ORIGINAL-URL:https://www.newstraid.org.uk
X-WR-CALDESC:Events for NewstrAid Benevolent Fund
REFRESH-INTERVAL;VALUE=DURATION:PT1H
X-Robots-Tag:noindex
X-PUBLISHED-TTL:PT1H
BEGIN:VTIMEZONE
TZID:Europe/London
BEGIN:DAYLIGHT
TZOFFSETFROM:+0000
TZOFFSETTO:+0100
TZNAME:BST
DTSTART:20230326T010000
END:DAYLIGHT
BEGIN:STANDARD
TZOFFSETFROM:+0100
TZOFFSETTO:+0000
TZNAME:GMT
DTSTART:20231029T010000
END:STANDARD
BEGIN:DAYLIGHT
TZOFFSETFROM:+0000
TZOFFSETTO:+0100
TZNAME:BST
DTSTART:20240331T010000
END:DAYLIGHT
BEGIN:STANDARD
TZOFFSETFROM:+0100
TZOFFSETTO:+0000
TZNAME:GMT
DTSTART:20241027T010000
END:STANDARD
BEGIN:DAYLIGHT
TZOFFSETFROM:+0000
TZOFFSETTO:+0100
TZNAME:BST
DTSTART:20250330T010000
END:DAYLIGHT
BEGIN:STANDARD
TZOFFSETFROM:+0100
TZOFFSETTO:+0000
TZNAME:GMT
DTSTART:20251026T010000
END:STANDARD
END:VTIMEZONE
BEGIN:VEVENT
DTSTART;TZID=Europe/London:20241202T184500
DTEND;TZID=Europe/London:20241202T210000
DTSTAMP:20260422T131741
CREATED:20241021T101416Z
LAST-MODIFIED:20241031T085202Z
UID:4660-1733165100-1733173200@www.newstraid.org.uk
SUMMARY:NewstrAid Carol Concert 2024
DESCRIPTION:Join us for an evening of seasonal readings and carols featuring the St Bride’s Choir\, all in aid of NewstrAid. \n£20 per ticket £15 concessions (65+). Children under 12yrs go free with a paying adult. \nThe service will be followed by wine\, mince pies and a Christmas raffle in the Bridewell Hall next door. \nNewstrAid Carol Service 2024 Flyer \nBook your ticket here Or email Joanne@newstraid.org.uk \nMany thanks to all the sponsors who have made this event possible.
URL:https://www.newstraid.org.uk/event/newstraid-carol-concert-2024/
LOCATION:St Bride’s Church\, Fleet Street\, London\, EC4Y 8AU\, United Kingdom
ATTACH;FMTTYPE=image/jpeg:https://www.newstraid.org.uk/wp-content/uploads/2024/10/NewstrAid-Carol-Service-2024-Details.jpg
END:VEVENT
BEGIN:VEVENT
DTSTART;TZID=Europe/London:20241209T120000
DTEND;TZID=Europe/London:20241209T150000
DTSTAMP:20260422T131741
CREATED:20241002T155618Z
LAST-MODIFIED:20241002T155727Z
UID:4626-1733745600-1733756400@www.newstraid.org.uk
SUMMARY:East of England Area Committee Christmas Lunch
DESCRIPTION:Join NewstrAid’s East of England Area Committee for this popular annual event at West Malling Golf Club. \n3 courses for £35 per head. \nTo reserve your place please email: mail@newstraid.org.uk \nA4 Flyer East of England Xmas Lunch 2024 (a)
URL:https://www.newstraid.org.uk/event/4626/
LOCATION:West Malling Golf Club
ATTACH;FMTTYPE=image/jpeg:https://www.newstraid.org.uk/wp-content/uploads/2024/10/table-setting-6859276_1920.jpg
END:VEVENT
END:VCALENDAR