BEGIN:VCALENDAR
VERSION:2.0
PRODID:-//NewstrAid Benevolent Fund - ECPv6.15.14//NONSGML v1.0//EN
CALSCALE:GREGORIAN
METHOD:PUBLISH
X-WR-CALNAME:NewstrAid Benevolent Fund
X-ORIGINAL-URL:https://www.newstraid.org.uk
X-WR-CALDESC:Events for NewstrAid Benevolent Fund
REFRESH-INTERVAL;VALUE=DURATION:PT1H
X-Robots-Tag:noindex
X-PUBLISHED-TTL:PT1H
BEGIN:VTIMEZONE
TZID:Europe/London
BEGIN:DAYLIGHT
TZOFFSETFROM:+0000
TZOFFSETTO:+0100
TZNAME:BST
DTSTART:20240331T010000
END:DAYLIGHT
BEGIN:STANDARD
TZOFFSETFROM:+0100
TZOFFSETTO:+0000
TZNAME:GMT
DTSTART:20241027T010000
END:STANDARD
BEGIN:DAYLIGHT
TZOFFSETFROM:+0000
TZOFFSETTO:+0100
TZNAME:BST
DTSTART:20250330T010000
END:DAYLIGHT
BEGIN:STANDARD
TZOFFSETFROM:+0100
TZOFFSETTO:+0000
TZNAME:GMT
DTSTART:20251026T010000
END:STANDARD
BEGIN:DAYLIGHT
TZOFFSETFROM:+0000
TZOFFSETTO:+0100
TZNAME:BST
DTSTART:20260329T010000
END:DAYLIGHT
BEGIN:STANDARD
TZOFFSETFROM:+0100
TZOFFSETTO:+0000
TZNAME:GMT
DTSTART:20261025T010000
END:STANDARD
END:VTIMEZONE
BEGIN:VEVENT
DTSTART;TZID=Europe/London:20250710T080000
DTEND;TZID=Europe/London:20250710T180000
DTSTAMP:20260422T002602
CREATED:20250212T144421Z
LAST-MODIFIED:20250212T144713Z
UID:4798-1752134400-1752170400@www.newstraid.org.uk
SUMMARY:East of England Fishing Day
DESCRIPTION:[vc_row][vc_column][vc_column_text css=””]Join our East of England Area Committee for their annual Fishing Day off Ramsgate Harbour\, all in aid of NewstrAid! \nThe day starts at 9.00am and concludes with a buffet\, presentation and prizes at the Queens Head (quayside) \nThursday 10th July 2025 \n£580 per boat of 10 (£58 for an individual) \nPrice includes rods\, reels\, tackle and baits. each vessel will have a crew member on board for tuition. \nTo book\, or if you have any queries\, please contact: mail@newstraid.org.uk \n [/vc_column_text][/vc_column][/vc_row]
URL:https://www.newstraid.org.uk/event/east-of-england-fishing-day-2/
LOCATION:Ramsgate Harbour
ATTACH;FMTTYPE=image/jpeg:https://www.newstraid.org.uk/wp-content/uploads/2025/02/25.jpg
END:VEVENT
END:VCALENDAR