BEGIN:VCALENDAR
VERSION:2.0
PRODID:-//NewstrAid Benevolent Fund - ECPv6.15.14//NONSGML v1.0//EN
CALSCALE:GREGORIAN
METHOD:PUBLISH
X-ORIGINAL-URL:https://www.newstraid.org.uk
X-WR-CALDESC:Events for NewstrAid Benevolent Fund
REFRESH-INTERVAL;VALUE=DURATION:PT1H
X-Robots-Tag:noindex
X-PUBLISHED-TTL:PT1H
BEGIN:VTIMEZONE
TZID:Europe/London
BEGIN:DAYLIGHT
TZOFFSETFROM:+0000
TZOFFSETTO:+0100
TZNAME:BST
DTSTART:20240331T010000
END:DAYLIGHT
BEGIN:STANDARD
TZOFFSETFROM:+0100
TZOFFSETTO:+0000
TZNAME:GMT
DTSTART:20241027T010000
END:STANDARD
BEGIN:DAYLIGHT
TZOFFSETFROM:+0000
TZOFFSETTO:+0100
TZNAME:BST
DTSTART:20250330T010000
END:DAYLIGHT
BEGIN:STANDARD
TZOFFSETFROM:+0100
TZOFFSETTO:+0000
TZNAME:GMT
DTSTART:20251026T010000
END:STANDARD
BEGIN:DAYLIGHT
TZOFFSETFROM:+0000
TZOFFSETTO:+0100
TZNAME:BST
DTSTART:20260329T010000
END:DAYLIGHT
BEGIN:STANDARD
TZOFFSETFROM:+0100
TZOFFSETTO:+0000
TZNAME:GMT
DTSTART:20261025T010000
END:STANDARD
END:VTIMEZONE
BEGIN:VEVENT
DTSTART;TZID=Europe/London:20250911T163000
DTEND;TZID=Europe/London:20250911T183000
DTSTAMP:20260421T204226
CREATED:20250619T140641Z
LAST-MODIFIED:20250715T182741Z
UID:4963-1757608200-1757615400@www.newstraid.org.uk
SUMMARY:NewstrAid Scavenger Hunt 2025
DESCRIPTION:NewstrAid’s Nationwide Scavenger Hunt is BACK and its bigger\, bolder and better than ever!\nGrab your mates\, form a team\, and take on as many challenges as you can in your local town or city. You’ve got a limited time\, a whole lot of creative tasks\, and your wits to guide you – let’s see what you’re made of! \nDate: Thursday 11th September 2025\, 4.30pm\nLocation: A town of your choice\nPrice: £20 each or £100 for a team of 6 people.\nTo register your team fill in the form here \nDownload the flyer
URL:https://www.newstraid.org.uk/event/newstraid-scavenger-hunt-2025/
ATTACH;FMTTYPE=image/jpeg:https://www.newstraid.org.uk/wp-content/uploads/2025/06/2024-montageuntitled-scaled.jpg
END:VEVENT
END:VCALENDAR